BEGIN:VCALENDAR
VERSION:2.0
PRODID:-//Pontiac Reads - ECPv6.15.17.1//NONSGML v1.0//EN
CALSCALE:GREGORIAN
METHOD:PUBLISH
X-ORIGINAL-URL:https://pontiacreads.org
X-WR-CALDESC:Events for Pontiac Reads
REFRESH-INTERVAL;VALUE=DURATION:PT1H
X-Robots-Tag:noindex
X-PUBLISHED-TTL:PT1H
BEGIN:VTIMEZONE
TZID:America/New_York
BEGIN:DAYLIGHT
TZOFFSETFROM:-0500
TZOFFSETTO:-0400
TZNAME:EDT
DTSTART:20240310T070000
END:DAYLIGHT
BEGIN:STANDARD
TZOFFSETFROM:-0400
TZOFFSETTO:-0500
TZNAME:EST
DTSTART:20241103T060000
END:STANDARD
BEGIN:DAYLIGHT
TZOFFSETFROM:-0500
TZOFFSETTO:-0400
TZNAME:EDT
DTSTART:20250309T070000
END:DAYLIGHT
BEGIN:STANDARD
TZOFFSETFROM:-0400
TZOFFSETTO:-0500
TZNAME:EST
DTSTART:20251102T060000
END:STANDARD
BEGIN:DAYLIGHT
TZOFFSETFROM:-0500
TZOFFSETTO:-0400
TZNAME:EDT
DTSTART:20260308T070000
END:DAYLIGHT
BEGIN:STANDARD
TZOFFSETFROM:-0400
TZOFFSETTO:-0500
TZNAME:EST
DTSTART:20261101T060000
END:STANDARD
END:VTIMEZONE
BEGIN:VEVENT
DTSTART;TZID=America/New_York:20250807T150000
DTEND;TZID=America/New_York:20250807T180000
DTSTAMP:20260420T015933
CREATED:20250625T035718Z
LAST-MODIFIED:20250627T232908Z
UID:778-1754578800-1754589600@pontiacreads.org
SUMMARY:PUEC’s Give Me S’more Summer – End of Summer Celebration & Resource Fair!
DESCRIPTION:PUEC’s Give Me S’more Summer – End of Summer Celebration & Resource Fair! Presented by Michigan State Federal Credit Union\nDate: August 07\, 2025\nTime: 3PM – 6PM\nEvent Address: The Montessori School(Crystal Lake Campus Grounds)\, 1400 Telegraph Rd.\, Pontiac\, MI 48340\nRegistration: https://forms.gle/2YB3SFtdA16oPgzXA \nJoin Us For PUEC’s Give Me S’more Summer – End of Summer Celebration and Resource Fair! Indulge in free S’more’s and partake in exciting end of summer activities and resources for your family. THIS IS A FREE EVENT! RSVP IS REQUESTED! See you there and feel free to bring a friend! \nNote for Events:\nVendors and Orgs.\, must be able to set-up no later than 2:30PM at each event.\nContact us at (248) 335-9600 or contact@puec.org
URL:https://pontiacreads.org/event/puecs-give-me-smore-summer-2025
LOCATION:Montessori School of Rochester – Crystal Lake Campus\, 825 Golf Dr\, Pontiac\, MI\, 48341\, United States
CATEGORIES:Summer Learning & Enrichment
ATTACH;FMTTYPE=image/jpeg:https://pontiacreads.org/wp-content/uploads/2024/05/2025-Give-Me-Smore-Summer-3.jpg
ORGANIZER;CN="Pontiac United Education Coalition":MAILTO:contact@puec.org
END:VEVENT
END:VCALENDAR